Workbook
Name \a: #REF!
Name \b: #REF!
Name \C: #REF!
Name \d: #REF!
Name \e: #REF!
Name \f: #REF!
Name \G: #REF!
Name \h: #REF!
Name \j: #REF!
Name \k: #REF!
Name \l: #REF!
Name \m: #REF!
Name \n: #REF!
Name \o: #REF!
Name \p: [1]Rates!#REF!
Name \q: #REF!
Name \r: #REF!
Name \s: #REF!
Name \t: #REF!
Name \u: #REF!
Name \w: #REF!
Name \x: #REF!
Name \y: #REF!
Name _4_23_2002: #REF!
Name _4_25_2002: #REF!
Name _5: #REF!
Name _CHA1: #REF!
Name _CHA11: #REF!
Name _CHA12: #REF!
Name _CHA13: #REF!
Name _CHA14: #REF!
Name _CHA2: #REF!
Name _CHA3: #REF!
Name _CHA4: #REF!
Name _CHA5: #REF!
Name _CHA6: #REF!
Name _CHA7: #REF!
Name _MO1: #REF!
Name _MO2: #REF!
Name _MO3: #REF!
Name _MO4: #REF!
Name _NEW1: #REF!
Name _NEW11: #REF!
Name _NEW12: #REF!
Name _NEW13: #REF!
Name _NEW14: #REF!
Name _NEW2: #REF!
Name _NEW3: #REF!
Name _NEW4: #REF!
Name _NEW5: #REF!
Name _NEW6: #REF!
Name _NEW7: #REF!
Name _OLD1: #REF!
Name _OLD11: #REF!
Name _OLD12: #REF!
Name _OLD13: #REF!
Name _OLD14: #REF!
Name _OLD2: #REF!
Name _OLD3: #REF!
Name _OLD4: #REF!

Sheet Retail Rate Impact
F1: Incremental EVs from Dec 31 2020
C2: 2021 | D2: 2022 | E2: =D2+1 -> 2023 | F2: =E2+1 -> 2024 | G2: =F2+1 -> 2025 | H2: =G2+1 -> 2026 | I2: =H2+1 -> 2027 | J2: =I2+1 -> 2028 | K2: =J2+1 -> 2029 | L2: =K2+1 -> 2030
B4: Revenue from EV Charging | C4: ='Net Revenues'!D75*-1 -> -2942403.8 | D4: ='Net Revenues'!E75*-1 -> -8520044.3 | E4: ='Net Revenues'!F75*-1 -> -17015555 | F4: ='Net Revenues'!G75*-1 -> -31045983 | G4: ='Net Revenues'!H75*-1 -> -47644135 | H4: ='Net Revenues'!I75*-1 -> -69745429 | I4: ='Net Revenues'!J75*-1 -> -1.0021438e+08 | J4: ='Net Revenues'!K75*-1 -> -1.4080841e+08 | ... L4: ='Net Revenues'!M75*-1 -> -2.6659429e+08
B5: + Cost to Serve EV Charging | C5: ='Net Revenues'!D76*-1 -> 1159047.8 | D5: ='Net Revenues'!E76*-1 -> 3088523.5 | E5: ='Net Revenues'!F76*-1 -> 7006444.4 | F5: ='Net Revenues'!G76*-1 -> 12976107 | G5: ='Net Revenues'!H76*-1 -> 18830710 | H5: ='Net Revenues'!I76*-1 -> 26129068 | I5: ='Net Revenues'!J76*-1 -> 35656660 | J5: ='Net Revenues'!K76*-1 -> 47063415 | ... L5: ='Net Revenues'!M76*-1 -> 81126908
B6: = Net Revenue from EV Charging (A) | C6: =C4+C5 -> -1783356 | D6: =D4+D5 -> -5431520.8 | E6: =E4+E5 -> -10009110 | F6: =F4+F5 -> -18069876 | G6: =G4+G5 -> -28813424 | H6: =H4+H5 -> -43616361 | I6: =I4+I5 -> -64557719 | J6: =J4+J5 -> -93744997 | ... L6: =L4+L5 -> -1.8546739e+08
B8: Rev Req Filing 1 - 11/1/2023 | F8: 4000000 | G8: 10000000 | H8: 11000000 | I8: 15000000 | J8: =I8 -> 15000000 | K8: =J8 -> 15000000 | L8: =K8 -> 15000000 | N8: from TEP Budget
B9: Rev Req Filing 2 - 1H24 | F9: 2000000 | G9: 15000000 | H9: 25000000 | I9: 37000000 | J9: =I9 -> 37000000 | K9: =J9 -> 37000000 | L9: =K9 -> 37000000 | N9: from TEP Budget
B10: - Operating Revenues | I10: =H10 -> 0 | J10: =I10 -> 0 | K10: =J10 -> 0 | L10: =K10 -> 0 | N10: from TEP Budget
B11: = Total Proposed TEP (B) | F11: =SUM(F8:F10) -> 6000000 | G11: =SUM(G8:G10) -> 25000000 | H11: =SUM(H8:H10) -> 36000000 | I11: =SUM(I8:I10) -> 52000000 | J11: =SUM(J8:J10) -> 52000000 | K11: =SUM(K8:K10) -> 52000000 | L11: =SUM(L8:L10) -> 52000000
B13: Prior Approved TEP Capital | C13: 2383284.3 | D13: 6956748.2 | E13: 7744288.3 | J13: =I13 -> 0 | K13: =J13 -> 0 | L13: =K13 -> 0 | N13: from TEP Budget
B14: + EVSI Deferred Assets | J14: =I14 -> 0 | K14: =J14 -> 0 | L14: =K14 -> 0 | N14: from TEP Budget
B15: + PIM | F15: =$C27 -> 0 | G15: =$C27 -> 0 | H15: =$C27 -> 0 | I15: =$C27 -> 0 | J15: =$C27 -> 0 | K15: =$C27 -> 0 | L15: =$C27 -> 0
B16: = Total Other Related Costs (C) | C16: =SUM(C13:C15) -> 2383284.3 | D16: =SUM(D13:D15) -> 6956748.2 | E16: =SUM(E13:E15) -> 7744288.3 | F16: =SUM(F13:F15) -> 0 | G16: =SUM(G13:G15) -> 0 | H16: =SUM(H13:H15) -> 0 | I16: =SUM(I13:I15) -> 0 | J16: =SUM(J13:J15) -> 0 | ... L16: =SUM(L13:L15) -> 0
B18: = Total Retail Rate Impact (A+B+C) | C18: =C6+C11+C16 -> 599928.31 | D18: =D6+D11+D16 -> 1525227.4 | E18: =E6+E11+E16 -> -2264822 | F18: =F6+F11+F16 -> -12069876 | G18: =G6+G11+G16 -> -3813424.3 | H18: =H6+H11+H16 -> -7616360.7 | I18: =I6+I11+I16 -> -12557719 | J18: =J6+J11+J16 -> -41744997 | ... L18: =L6+L11+L16 -> -1.3346739e+08
B19: ÷ Approximate Total Retail Revenues | C19: =C34 -> 0 | D19: =D34 -> 0 | E19: =E34 -> #DIV/0! | F19: =F34 -> 3.5403871e+09 | G19: =G34 -> 3.6310102e+09 | H19: =H34 -> 3.9232548e+09 | I19: =I34 -> 4.128646e+09 | J19: =J34 -> 0 | ... L19: =L34 -> 0
B20: = Retail Rate Impact - Percentage | C20: =C18/C19 -> #DIV/0! | D20: =D18/D19 -> #DIV/0! | E20: =E18/E19 -> #DIV/0! | F20: =F18/F19 -> -0.0034091968 | G20: =G18/G19 -> -0.0010502378 | H20: =H18/H19 -> -0.0019413372 | I20: =I18/I19 -> -0.0030416072 | J20: =J18/J19 -> #DIV/0! | ... L20: =L18/L19 -> #DIV/0!
B25: Key Assumptions
B27: PIM | C27: 0 | N27: assumption
B29: Retail Rate Inflation % | C29: 0.02 | N29: assumption
B31: Retail Revenue Forecast | C31: =C2 -> 2021 | D31: =D2 -> 2022 | E31: =E2 -> 2023 | F31: =F2 -> 2024 | G31: =G2 -> 2025 | H31: =H2 -> 2026 | I31: =I2 -> 2027 | J31: =J2 -> 2028 | ... L31: =L2 -> 2030
B32: Average Retail Rate ($/kWh) | C32: =C34/C33/1000 -> #DIV/0! | D32: =D34/D33/1000 -> #DIV/0! | E32: =D32*(1+$C$29) -> #DIV/0! | F32: =F34/F33/1000 -> 0.12574137 | G32: =F32*(1+$C$29) -> 0.1282562 | H32: =G32*(1+$C$29) -> 0.13082133 | I32: =H32*(1+$C$29) -> 0.13343775 | J32: =I32*(1+$C$29) -> 0.13610651 | K32: =J32*(1+$C$29) -> 0.13882864 | L32: =K32*(1+$C$29) -> 0.14160521
B33: Total Sales (MWh) | F33: 28156103 | G33: 28310602 | H33: 29989413 | I33: 30940614 | N33: Aug 2023 forecast
B34: Total Retail Revenues ($) | E34: =E32*E33*1000 -> #DIV/0! | F34: 3.5403871e+09 | G34: =G32*G33*1000 -> 3.6310102e+09 | H34: =H32*H33*1000 -> 3.9232548e+09 | I34: =I32*I33*1000 -> 4.128646e+09 | J34: =J32*J33*1000 -> 0 | K34: =K32*K33*1000 -> 0 | L34: =L32*L33*1000 -> 0 | N34: 2024 Ordered Test Year
B44: Summary Table | F44: 2024 | G44: 2025 | H44: 2026 | I44: 2027 | J44: Total
B45: Revenue from EV Charging | F45: =F4 -> -31045983 | G45: =G4 -> -47644135 | H45: =H4 -> -69745429 | I45: =I4 -> -1.0021438e+08 | J45: =SUM(F45:I45) -> -2.4864993e+08
B46: + Cost to Serve EV Charging | F46: =F5 -> 12976107 | G46: =G5 -> 18830710 | H46: =H5 -> 26129068 | I46: =I5 -> 35656660 | J46: =SUM(F46:I46) -> 93592546
B47: = Net Revenue from EV Charging | F47: =SUM(F45:F46) -> -18069876 | G47: =SUM(G45:G46) -> -28813424 | H47: =SUM(H45:H46) -> -43616361 | I47: =SUM(I45:I46) -> -64557719 | J47: =SUM(F47:I47) -> -1.5505738e+08
B48: + TEP Revenue Requirement | F48: =F8+F9+F10 -> 6000000 | G48: =G8+G9+G10 -> 25000000 | H48: =H8+H9+H10 -> 36000000 | I48: =I8+I9+I10 -> 52000000 | J48: =SUM(F48:I48) -> 119000000
B49: + Prior Approved Capital | F49: =F13+F14 -> 0 | G49: =G13+G14 -> 0 | H49: =H13+H14 -> 0 | I49: =I13+I14 -> 0 | J49: =SUM(F49:I49) -> 0
B50: + PIM | F50: =F15 -> 0 | G50: =G15 -> 0 | H50: =H15 -> 0 | I50: =I15 -> 0 | J50: =SUM(F50:I50) -> 0
B51: = Retail Rate Impact | F51: =SUM(F47:F50) -> -12069876 | G51: =SUM(G47:G50) -> -3813424.3 | H51: =SUM(H47:H50) -> -7616360.7 | I51: =SUM(I47:I50) -> -12557719 | J51: =SUM(F51:I51) -> -36057381
B52: ÷ Approximate Total Retail Revenues | F52: =F19 -> 3.5403871e+09 | G52: =G19 -> 3.6310102e+09 | H52: =H19 -> 3.9232548e+09 | I52: =I19 -> 4.128646e+09 | J52: =SUM(F52:I52) -> 1.5223298e+10
B53: = Retail Rate Impact - Percentage | F53: =F51/F52 -> -0.0034091968 | G53: =G51/G52 -> -0.0010502378 | H53: =H51/H52 -> -0.0019413372 | I53: =I51/I52 -> -0.0030416072 | J53: =J51/J52 -> -0.0023685656

Sheet Net Revenues
D1: 2021 | E1: 2022 | F1: 2023 | G1: 2024 | H1: 2025 | I1: 2026 | J1: 2027 | K1: 2028 | L1: 2029 | M1: 2030
B3: System Impacts
B5: Home Charging
B6: Energy (kWh) | D6: ='Rate Revenues'!D34*1000 -> 20643201 | E6: ='Rate Revenues'!E34*1000 -> 52213316 | F6: ='Rate Revenues'!F34*1000 -> 99803025 | G6: ='Rate Revenues'!G34*1000 -> 1.5870093e+08 | H6: ='Rate Revenues'!H34*1000 -> 2.2186444e+08 | I6: ='Rate Revenues'!I34*1000 -> 2.9642586e+08 | J6: ='Rate Revenues'!J34*1000 -> 3.8937e+08 | K6: ='Rate Revenues'!K34*1000 -> 5.0084946e+08 | ... M6: ='Rate Revenues'!M34*1000 -> 7.97492e+08
B7: Coincident Peak (kW) | D7: =D6/8760/'Cost to Serve'!$U$72 -> 1915.1539 | E7: =E6/8760/'Cost to Serve'!$U$72 -> 4844.042 | F7: =F6/8760/'Cost to Serve'!$U$72 -> 9259.133 | G7: =G6/8760/'Cost to Serve'!$U$72 -> 14723.332 | H7: =H6/8760/'Cost to Serve'!$U$72 -> 20583.267 | I7: =I6/8760/'Cost to Serve'!$U$72 -> 27500.634 | J7: =J6/8760/'Cost to Serve'!$U$72 -> 36123.441 | K7: =K6/8760/'Cost to Serve'!$U$72 -> 46465.844 | ... M7: =M6/8760/'Cost to Serve'!$U$72 -> 73986.58
B8: Non-Coincident Peak (kW) | D8: =D6/8760/'Cost to Serve'!$Y$72 -> 4938.9874 | E8: =E6/8760/'Cost to Serve'!$Y$72 -> 12492.293 | F8: =F6/8760/'Cost to Serve'!$Y$72 -> 23878.364 | G8: =G6/8760/'Cost to Serve'!$Y$72 -> 37969.979 | H8: =H6/8760/'Cost to Serve'!$Y$72 -> 53082.158 | I8: =I6/8760/'Cost to Serve'!$Y$72 -> 70921.344 | J8: =J6/8760/'Cost to Serve'!$Y$72 -> 93158.688 | K8: =K6/8760/'Cost to Serve'!$Y$72 -> 119830.7 | ... M8: =M6/8760/'Cost to Serve'!$Y$72 -> 190803.88
B10: Work Charging
B11: Energy (kWh) | D11: ='Rate Revenues'!D41*1000 -> 4076669.5 | E11: ='Rate Revenues'!E41*1000 -> 10006632 | F11: ='Rate Revenues'!F41*1000 -> 18519095 | G11: ='Rate Revenues'!G41*1000 -> 28437138 | H11: ='Rate Revenues'!H41*1000 -> 38276333 | I11: ='Rate Revenues'!I41*1000 -> 49069804 | J11: ='Rate Revenues'!J41*1000 -> 61604008 | K11: ='Rate Revenues'!K41*1000 -> 75390274 | ... M11: ='Rate Revenues'!M41*1000 -> 1.068092e+08
B12: Coincident Peak (kW) | D12: =D11/8760/'Cost to Serve'!$W$72 -> 397.76948 | E12: =E11/8760/'Cost to Serve'!$W$72 -> 976.3688 | F12: =F11/8760/'Cost to Serve'!$W$72 -> 1806.9482 | G12: =G11/8760/'Cost to Serve'!$W$72 -> 2774.6731 | H12: =H11/8760/'Cost to Serve'!$W$72 -> 3734.7047 | I12: =I11/8760/'Cost to Serve'!$W$72 -> 4787.8471 | J12: =J11/8760/'Cost to Serve'!$W$72 -> 6010.8365 | K12: =K11/8760/'Cost to Serve'!$W$72 -> 7355.9924 | ... M12: =M11/8760/'Cost to Serve'!$W$72 -> 10421.605
B13: Non-Coincident Peak (kW) | D13: =D11/8760/'Cost to Serve'!$AA$72 -> 1180.4437 | E13: =E11/8760/'Cost to Serve'!$AA$72 -> 2897.5285 | F13: =F11/8760/'Cost to Serve'!$AA$72 -> 5362.4039 | G13: =G11/8760/'Cost to Serve'!$AA$72 -> 8234.2803 | H13: =H11/8760/'Cost to Serve'!$AA$72 -> 11083.325 | I13: =I11/8760/'Cost to Serve'!$AA$72 -> 14208.692 | J13: =J11/8760/'Cost to Serve'!$AA$72 -> 17838.106 | K13: =K11/8760/'Cost to Serve'!$AA$72 -> 21830.068 | ... M13: =M11/8760/'Cost to Serve'!$AA$72 -> 30927.757
B15: Public Charging
B16: Energy (kWh) | D16: ='Rate Revenues'!D45*1000 -> 1084130.8 | E16: ='Rate Revenues'!E45*1000 -> 4465316.5 | F16: ='Rate Revenues'!F45*1000 -> 11975394 | G16: ='Rate Revenues'!G45*1000 -> 24761548 | H16: ='Rate Revenues'!H45*1000 -> 42983682 | I16: ='Rate Revenues'!I45*1000 -> 69140150 | J16: ='Rate Revenues'!J45*1000 -> 1.0695231e+08 | K16: ='Rate Revenues'!K45*1000 -> 1.5936335e+08 | ... M16: ='Rate Revenues'!M45*1000 -> 3.2861904e+08
B17: Coincident Peak (kW) | D17: =D16/8760/'Cost to Serve'!$V$72 -> 183.40936 | E17: =E16/8760/'Cost to Serve'!$V$72 -> 755.42622 | F17: =F16/8760/'Cost to Serve'!$V$72 -> 2025.9542 | G17: =G16/8760/'Cost to Serve'!$V$72 -> 4189.0699 | H17: =H16/8760/'Cost to Serve'!$V$72 -> 7271.8252 | I17: =I16/8760/'Cost to Serve'!$V$72 -> 11696.883 | J17: =J16/8760/'Cost to Serve'!$V$72 -> 18093.808 | K17: =K16/8760/'Cost to Serve'!$V$72 -> 26960.52 | ... M17: =M16/8760/'Cost to Serve'!$V$72 -> 55594.59
B18: Non-Coincident Peak (kW) | D18: =D16/8760/'Cost to Serve'!$Z$72 -> 207.09225 | E18: =E16/8760/'Cost to Serve'!$Z$72 -> 852.97128 | F18: =F16/8760/'Cost to Serve'!$Z$72 -> 2287.5572 | G18: =G16/8760/'Cost to Serve'!$Z$72 -> 4729.9872 | H18: =H16/8760/'Cost to Serve'!$Z$72 -> 8210.8059 | I18: =I16/8760/'Cost to Serve'!$Z$72 -> 13207.253 | J18: =J16/8760/'Cost to Serve'!$Z$72 -> 20430.186 | K18: =K16/8760/'Cost to Serve'!$Z$72 -> 30441.82 | ... M18: =M16/8760/'Cost to Serve'!$Z$72 -> 62773.289
B20: Total Energy (kWh) | D20: =SUM(D6,D11,D16) -> 25804002 | E20: =SUM(E6,E11,E16) -> 66685265 | F20: =SUM(F6,F11,F16) -> 1.3029751e+08 | G20: =SUM(G6,G11,G16) -> 2.1189962e+08 | H20: =SUM(H6,H11,H16) -> 3.0312445e+08 | I20: =SUM(I6,I11,I16) -> 4.1463581e+08 | J20: =SUM(J6,J11,J16) -> 5.5792632e+08 | K20: =SUM(K6,K11,K16) -> 7.3560308e+08 | ... M20: =SUM(M6,M11,M16) -> 1.2329202e+09
B22: Total Coincident Peak Contribution (kW) | D22: =SUM(D7,D12,D17) -> 2496.3327 | E22: =SUM(E7,E12,E17) -> 6575.837 | F22: =SUM(F7,F12,F17) -> 13092.035 | G22: =SUM(G7,G12,G17) -> 21687.075 | H22: =SUM(H7,H12,H17) -> 31589.797 | I22: =SUM(I7,I12,I17) -> 43985.363 | J22: =SUM(J7,J12,J17) -> 60228.085 | K22: =SUM(K7,K12,K17) -> 80782.356 | ... M22: =SUM(M7,M12,M17) -> 140002.78
B24: Total Non-Coincident Peak Contribution (kW) | D24: =SUM(D8,D13,D18) -> 6326.5234 | E24: =SUM(E8,E13,E18) -> 16242.792 | F24: =SUM(F8,F13,F18) -> 31528.326 | G24: =SUM(G8,G13,G18) -> 50934.246 | H24: =SUM(H8,H13,H18) -> 72376.289 | I24: =SUM(I8,I13,I18) -> 98337.288 | J24: =SUM(J8,J13,J18) -> 131426.98 | K24: =SUM(K8,K13,K18) -> 172102.58 | ... M24: =SUM(M8,M13,M18) -> 284504.93
B27: System Costs
B29: Generation Capacity ($/kW) | D29: 6.85 | E29: 6.96 | F29: 7.08 | G29: 11.84 | H29: =G29*1.02 -> 12.0768 | I29: =H29*1.02 -> 12.318336 | J29: =I29*1.02 -> 12.564703 | K29: =J29*1.02 -> 12.815997 | L29: =K29*1.02 -> 13.072317 | M29: =L29*1.02 -> 13.333763 | N29: CCOSS cell O118
B30: Generation Capaacity ($) | D30: =D$22*D29*12 -> 205198.55 | E30: =E$22*E29*12 -> 549213.9 | F30: =F$22*F29*12 -> 1112299.3 | G30: =G$22*G29*12 -> 3081299.6 | H30: =H$22*H29*12 -> 4578044 | I30: =I$22*I29*12 -> 6501917.8 | J30: =J$22*J29*12 -> 9080975.8 | K30: =K$22*K29*12 -> 12423677 | ... M30: =M$22*M29*12 -> 22401166
B32: Distribution Capacity ($/kW) | D32: =E32/1.02 -> 3.4313725 | E32: 3.5 | F32: =E32*1.02 -> 3.57 | G32: 3.45 | H32: =G32*1.02 -> 3.519 | I32: =H32*1.02 -> 3.58938 | J32: =I32*1.02 -> 3.6611676 | K32: =J32*1.02 -> 3.734391 | L32: =K32*1.02 -> 3.8090788 | M32: =L32*1.02 -> 3.8852603 | N32: CCOSS cell O119
B33: Distribution Capacity ($) | D33: =D$24*D32*12 -> 260503.9 | E33: =E$24*E32*12 -> 682197.28 | F33: =F$24*F32*12 -> 1350673.5 | G33: =G$24*G32*12 -> 2108677.8 | H33: =H$24*H32*12 -> 3056305.9 | I33: =I$24*I32*12 -> 4235638.7 | J33: =J$24*J32*12 -> 5774114.4 | K33: =K$24*K32*12 -> 7712379.9 | ... M33: =M$24*M32*12 -> 13264509
B35: Marginal Energy ($/kWh)
B36: Home | D36: =E36*(0.03425/0.03533) -> 0.026033166 | E36: ='Cost to Serve'!C122 -> 0.026854066 | F36: ='Cost to Serve'!C35 -> 0.033652443 | G36: =F36 -> 0.033652443 | H36: =G36 -> 0.033652443 | I36: =H36 -> 0.033652443 | J36: =I36 -> 0.033652443 | K36: =J36 -> 0.033652443 | L36: =K36 -> 0.033652443 | M36: =L36 -> 0.033652443
B37: Work | D37: =E37*(0.03425/0.03533) -> 0.02965802 | E37: ='Cost to Serve'!E122 -> 0.030593222 | F37: ='Cost to Serve'!E35 -> 0.038315198 | G37: =F37 -> 0.038315198 | H37: =G37 -> 0.038315198 | I37: =H37 -> 0.038315198 | J37: =I37 -> 0.038315198 | K37: =J37 -> 0.038315198 | L37: =K37 -> 0.038315198 | M37: =L37 -> 0.038315198
B38: Public | D38: =E38*(0.03425/0.03533) -> 0.032312957 | E38: ='Cost to Serve'!D122 -> 0.033331877 | F38: ='Cost to Serve'!D35 -> 0.039689152 | G38: =F38 -> 0.039689152 | H38: =G38 -> 0.039689152 | I38: =H38 -> 0.039689152 | J38: =I38 -> 0.039689152 | K38: =J38 -> 0.039689152 | L38: =K38 -> 0.039689152 | M38: =L38 -> 0.039689152
B39: Marginal Energy ($)
B40: Home | D40: =D6*D36 -> 537407.89 | E40: =E6*E36 -> 1402139.8 | F40: =F6*F36 -> 3358615.6 | G40: =G6*G36 -> 5340674.1 | H40: =H6*H36 -> 7466280.3 | I40: =I6*I36 -> 9975454.1 | J40: =J6*J36 -> 13103252 | K40: =K6*K36 -> 16854808 | ... M40: =M6*M36 -> 26837554
B41: Work | D41: =D11*D37 -> 120905.95 | E41: =E11*E37 -> 306135.13 | F41: =F11*F37 -> 709562.8 | G41: =G11*G37 -> 1089574.6 | H41: =H11*H37 -> 1466565.3 | I41: =I11*I37 -> 1880119.3 | J41: =J11*J37 -> 2360369.8 | K41: =K11*K37 -> 2888593.3 | ... M41: =M11*M37 -> 4092415.7
B42: Public | D42: =D16*D38 -> 35031.472 | E42: =E16*E38 -> 148837.38 | F42: =F16*F38 -> 475293.23 | G42: =G16*G38 -> 982764.85 | H42: =H16*H38 -> 1705985.9 | I42: =I16*I38 -> 2744113.9 | J42: =J16*J38 -> 4244846.4 | K42: =K16*K38 -> 6324996.2 | ... M42: =M16*M38 -> 13042611
B43: Total Marginal Energy Costs | D43: =SUM(D40:D42) -> 693345.31 | E43: =SUM(E40:E42) -> 1857112.3 | F43: =SUM(F40:F42) -> 4543471.6 | G43: =SUM(G40:G42) -> 7413013.5 | H43: =SUM(H40:H42) -> 10638831 | I43: =SUM(I40:I42) -> 14599687 | J43: =SUM(J40:J42) -> 19708468 | K43: =SUM(K40:K42) -> 26068397 | ... M43: =SUM(M40:M42) -> 43972581
B45: MISO Costs/KW-yr | G45: 10.178425 | H45: 10.424537 | I45: =H45*(1+'Retail Rate Impact'!C29) -> 10.633027 | J45: =I45*(1+'Retail Rate Impact'!D29) -> 10.633027 | K45: =J45*(1+'Retail Rate Impact'!E29) -> 10.633027 | L45: =K45*(1+'Retail Rate Impact'!F29) -> 10.633027 | M45: =L45*(1+'Retail Rate Impact'!G29) -> 10.633027
B46: MISO Costs ($) | G46: =G45*G22 -> 220740.28 | H46: =H45*H22 -> 329309 | I46: =I45*I22 -> 467697.57 | J46: =J45*J22 -> 640406.88 | K46: =K45*K22 -> 858961 | L46: =L45*L22 -> 1138654.2 | M46: =M45*M22 -> 1488653.3
B48: MISO Reserve Margin $/KW-mon | G48: 6.73 | H48: 6.92 | I48: =H48*(1+'Retail Rate Impact'!$C$29) -> 7.0584 | J48: =I48*(1+'Retail Rate Impact'!$C$29) -> 7.199568
B49: MISO Reserve Margin ($) | G49: =G22*G48*12*8.7% -> 152375.99 | H49: =H22*H48*12*8.7% -> 228219.86 | I49: =I22*I48*12*8.7% -> 324126.81 | J49: =J22*J48*12*8.7% -> 452695.3
B51: Total Cost to Serve | D51: =SUM(D30,D33,D43,D46) -> 1159047.8 | E51: =SUM(E30,E33,E43,E46) -> 3088523.5 | F51: =SUM(F30,F33,F43,F46) -> 7006444.4 | G51: =SUM(G30,G33,G43,G46,G49) -> 12976107 | H51: =SUM(H30,H33,H43,H46,H49) -> 18830710 | I51: =SUM(I30,I33,I43,I46,I49) -> 26129068 | J51: =SUM(J30,J33,J43,J46,J49) -> 35656660 | K51: =SUM(K30,K33,K43,K46) -> 47063415 | L51: =SUM(L30,L33,L43,L46) -> 62208323 | M51: =SUM(M30,M33,M43,M46) -> 81126908
B54: Net Revenues Calculation
B56: Home Charging Revenues
B57: A72, A74 | D57: =SUM('Rate Revenues'!D111:D116) -> 119211.34 | E57: =SUM('Rate Revenues'!E111:E116) -> 1349555.5 | F57: =SUM('Rate Revenues'!F111:F116) -> 7289036.1 | G57: =SUM('Rate Revenues'!G111:G116) -> 17480938 | H57: =SUM('Rate Revenues'!H111:H116) -> 24927178 | I57: =SUM('Rate Revenues'!I111:I116) -> 33970479 | J57: =SUM('Rate Revenues'!J111:J116) -> 45514340 | K57: =SUM('Rate Revenues'!K111:K116) -> 59716333 | ... M57: =SUM('Rate Revenues'!M111:M116) -> 98926491
D58: =SUM('Rate Revenues'!D119:D120) -> 2308571.4 | E58: =SUM('Rate Revenues'!E119:E120) -> 5750474.9 | F58: =SUM('Rate Revenues'!F119:F120) -> 6521296 | G58: =SUM('Rate Revenues'!G119:G120) -> 0 | H58: =SUM('Rate Revenues'!H119:H120) -> 0 | I58: =SUM('Rate Revenues'!I119:I120) -> 0 | J58: =SUM('Rate Revenues'!J119:J120) -> 0 | K58: =SUM('Rate Revenues'!K119:K120) -> 0 | ... M58: =SUM('Rate Revenues'!M119:M120) -> 0
...

Sheet Rate Revenues
D1: 2021 | E1: 2022 | F1: 2023 | G1: 2024 | H1: 2025 | I1: 2026 | J1: 2027 | K1: 2028 | L1: 2029 | M1: 2030
B3: Drivers
B5: EV Count
B6: LDV | D6: =SUMIFS('EV Forecast'!$C$8:$C$17,'EV Forecast'!$B$8:$B$17,D$1) -> 6216 | E6: =SUMIFS('EV Forecast'!$C$8:$C$17,'EV Forecast'!$B$8:$B$17,E$1) -> 18251.612 | F6: =SUMIFS('EV Forecast'!$C$8:$C$17,'EV Forecast'!$B$8:$B$17,F$1) -> 33601.013 | G6: =SUMIFS('EV Forecast'!$C$8:$C$17,'EV Forecast'!$B$8:$B$17,G$1) -> 50402.528 | H6: =SUMIFS('EV Forecast'!$C$8:$C$17,'EV Forecast'!$B$8:$B$17,H$1) -> 65423.879 | I6: =SUMIFS('EV Forecast'!$C$8:$C$17,'EV Forecast'!$B$8:$B$17,I$1) -> 84637.853 | J6: =SUMIFS('EV Forecast'!$C$8:$C$17,'EV Forecast'!$B$8:$B$17,J$1) -> 107301.05 | K6: =SUMIFS('EV Forecast'!$C$8:$C$17,'EV Forecast'!$B$8:$B$17,K$1) -> 135717.64 | ... M6: =SUMIFS('EV Forecast'!$C$8:$C$17,'EV Forecast'!$B$8:$B$17,M$1) -> 215214.16
B7: MDV | D7: =SUMIFS('EV Forecast'!$D$8:$D$17,'EV Forecast'!$B$8:$B$17,D$1) -> 0 | E7: =SUMIFS('EV Forecast'!$D$8:$D$17,'EV Forecast'!$B$8:$B$17,E$1) -> 40.022876 | F7: =SUMIFS('EV Forecast'!$D$8:$D$17,'EV Forecast'!$B$8:$B$17,F$1) -> 129.68761 | G7: =SUMIFS('EV Forecast'!$D$8:$D$17,'EV Forecast'!$B$8:$B$17,G$1) -> 277.47229 | H7: =SUMIFS('EV Forecast'!$D$8:$D$17,'EV Forecast'!$B$8:$B$17,H$1) -> 496.04121 | I7: =SUMIFS('EV Forecast'!$D$8:$D$17,'EV Forecast'!$B$8:$B$17,I$1) -> 796.71544 | J7: =SUMIFS('EV Forecast'!$D$8:$D$17,'EV Forecast'!$B$8:$B$17,J$1) -> 1181.6311 | K7: =SUMIFS('EV Forecast'!$D$8:$D$17,'EV Forecast'!$B$8:$B$17,K$1) -> 1658.6741 | ... M7: =SUMIFS('EV Forecast'!$D$8:$D$17,'EV Forecast'!$B$8:$B$17,M$1) -> 2847.4684
B8: HDV | D8: =SUMIFS('EV Forecast'!$E$8:$E$17,'EV Forecast'!$B$8:$B$17,D$1) -> 0 | E8: =SUMIFS('EV Forecast'!$E$8:$E$17,'EV Forecast'!$B$8:$B$17,E$1) -> 0 | F8: =SUMIFS('EV Forecast'!$E$8:$E$17,'EV Forecast'!$B$8:$B$17,F$1) -> 6.7088307 | G8: =SUMIFS('EV Forecast'!$E$8:$E$17,'EV Forecast'!$B$8:$B$17,G$1) -> 50.513155 | H8: =SUMIFS('EV Forecast'!$E$8:$E$17,'EV Forecast'!$B$8:$B$17,H$1) -> 148.31749 | I8: =SUMIFS('EV Forecast'!$E$8:$E$17,'EV Forecast'!$B$8:$B$17,I$1) -> 332.6806 | J8: =SUMIFS('EV Forecast'!$E$8:$E$17,'EV Forecast'!$B$8:$B$17,J$1) -> 599.63851 | K8: =SUMIFS('EV Forecast'!$E$8:$E$17,'EV Forecast'!$B$8:$B$17,K$1) -> 936.28209 | ... M8: =SUMIFS('EV Forecast'!$E$8:$E$17,'EV Forecast'!$B$8:$B$17,M$1) -> 1868.2689
B9: Total Count | D9: =SUM(D6:D8) -> 6216 | E9: =SUM(E6:E8) -> 18291.635 | F9: =SUM(F6:F8) -> 33737.41 | G9: =SUM(G6:G8) -> 50730.514 | H9: =SUM(H6:H8) -> 66068.238 | I9: =SUM(I6:I8) -> 85767.249 | J9: =SUM(J6:J8) -> 109082.32 | K9: =SUM(K6:K8) -> 138312.59 | ... M9: =SUM(M6:M8) -> 219929.9
B11: MWh Load
B12: LDV | D12: =SUMIFS('EV Forecast'!$I$8:$I$17,'EV Forecast'!$B$8:$B$17,D$1) -> 25398.442 | E12: =SUMIFS('EV Forecast'!$I$8:$I$17,'EV Forecast'!$B$8:$B$17,E$1) -> 65226.938 | F12: =SUMIFS('EV Forecast'!$I$8:$I$17,'EV Forecast'!$B$8:$B$17,F$1) -> 125603.22 | G12: =SUMIFS('EV Forecast'!$I$8:$I$17,'EV Forecast'!$B$8:$B$17,G$1) -> 197589.01 | H12: =SUMIFS('EV Forecast'!$I$8:$I$17,'EV Forecast'!$B$8:$B$17,H$1) -> 270273.2 | I12: =SUMIFS('EV Forecast'!$I$8:$I$17,'EV Forecast'!$B$8:$B$17,I$1) -> 349763.59 | J12: =SUMIFS('EV Forecast'!$I$8:$I$17,'EV Forecast'!$B$8:$B$17,J$1) -> 448015.05 | K12: =SUMIFS('EV Forecast'!$I$8:$I$17,'EV Forecast'!$B$8:$B$17,K$1) -> 569115.56 | ... M12: =SUMIFS('EV Forecast'!$I$8:$I$17,'EV Forecast'!$B$8:$B$17,M$1) -> 913272.3
B13: MDV | D13: =SUMIFS('EV Forecast'!$J$8:$J$17,'EV Forecast'!$B$8:$B$17,D$1) -> 0 | E13: =SUMIFS('EV Forecast'!$J$8:$J$17,'EV Forecast'!$B$8:$B$17,E$1) -> 1052.7673 | F13: =SUMIFS('EV Forecast'!$J$8:$J$17,'EV Forecast'!$B$8:$B$17,F$1) -> 3411.3209 | G13: =SUMIFS('EV Forecast'!$J$8:$J$17,'EV Forecast'!$B$8:$B$17,G$1) -> 7298.6695 | H13: =SUMIFS('EV Forecast'!$J$8:$J$17,'EV Forecast'!$B$8:$B$17,H$1) -> 13047.937 | I13: =SUMIFS('EV Forecast'!$J$8:$J$17,'EV Forecast'!$B$8:$B$17,I$1) -> 20956.913 | J13: =SUMIFS('EV Forecast'!$J$8:$J$17,'EV Forecast'!$B$8:$B$17,J$1) -> 31081.788 | K13: =SUMIFS('EV Forecast'!$J$8:$J$17,'EV Forecast'!$B$8:$B$17,K$1) -> 43629.992 | ... M13: =SUMIFS('EV Forecast'!$J$8:$J$17,'EV Forecast'!$B$8:$B$17,M$1) -> 74900.203
B14: HDV | D14: =SUMIFS('EV Forecast'!$K$8:$K$17,'EV Forecast'!$B$8:$B$17,D$1) -> 405.55962 | E14: =SUMIFS('EV Forecast'!$K$8:$K$17,'EV Forecast'!$B$8:$B$17,E$1) -> 405.55962 | F14: =SUMIFS('EV Forecast'!$K$8:$K$17,'EV Forecast'!$B$8:$B$17,F$1) -> 1282.9763 | G14: =SUMIFS('EV Forecast'!$K$8:$K$17,'EV Forecast'!$B$8:$B$17,G$1) -> 7011.9394 | H14: =SUMIFS('EV Forecast'!$K$8:$K$17,'EV Forecast'!$B$8:$B$17,H$1) -> 19803.313 | I14: =SUMIFS('EV Forecast'!$K$8:$K$17,'EV Forecast'!$B$8:$B$17,I$1) -> 43915.304 | J14: =SUMIFS('EV Forecast'!$K$8:$K$17,'EV Forecast'!$B$8:$B$17,J$1) -> 78829.483 | K14: =SUMIFS('EV Forecast'!$K$8:$K$17,'EV Forecast'!$B$8:$B$17,K$1) -> 122857.53 | ... M14: =SUMIFS('EV Forecast'!$K$8:$K$17,'EV Forecast'!$B$8:$B$17,M$1) -> 244747.74
B15: Total MWh Load | D15: =SUM(D12:D14) -> 25804.002 | E15: =SUM(E12:E14) -> 66685.265 | F15: =SUM(F12:F14) -> 130297.51 | G15: =SUM(G12:G14) -> 211899.62 | H15: =SUM(H12:H14) -> 303124.45 | I15: =SUM(I12:I14) -> 414635.81 | J15: =SUM(J12:J14) -> 557926.32 | K15: =SUM(K12:K14) -> 735603.08 | ... M15: =SUM(M12:M14) -> 1232920.2
B17: % Load by Location
B18: Home | D18: 0.8 | E18: =D18+(($M18-$D18)/9) -> 0.78298131 | F18: =E18+(($M18-$D18)/9) -> 0.76596262 | G18: =F18+(($M18-$D18)/9) -> 0.74894393 | H18: =G18+(($M18-$D18)/9) -> 0.73192524 | I18: =H18+(($M18-$D18)/9) -> 0.71490655 | J18: =I18+(($M18-$D18)/9) -> 0.69788786 | K18: =J18+(($M18-$D18)/9) -> 0.68086917 | L18: =K18+(($M18-$D18)/9) -> 0.66385048 | M18: 0.64683179 | O18: 2021 values based on actuals; 2030 values from GuideHouse forecast
B19: Work | D19: =1-D18-D20 -> 0.15798594 | E19: =D19+(($M19-$D19)/9) -> 0.15005762 | F19: =E19+(($M19-$D19)/9) -> 0.1421293 | G19: =F19+(($M19-$D19)/9) -> 0.13420099 | H19: =G19+(($M19-$D19)/9) -> 0.12627267 | I19: =H19+(($M19-$D19)/9) -> 0.11834435 | J19: =I19+(($M19-$D19)/9) -> 0.11041603 | K19: =J19+(($M19-$D19)/9) -> 0.10248771 | L19: =K19+(($M19-$D19)/9) -> 0.09455939 | M19: 0.086631071 | O19: 2021 values based on actuals; 2030 values from GuideHouse forecast
B20: Public | D20: =6644.47553004996/'EV Forecast'!$X$64 -> 0.042014057 | E20: =D20+(($M20-$D20)/9) -> 0.066961066 | F20: =E20+(($M20-$D20)/9) -> 0.091908076 | G20: =F20+(($M20-$D20)/9) -> 0.11685509 | H20: =G20+(($M20-$D20)/9) -> 0.14180209 | I20: =H20+(($M20-$D20)/9) -> 0.1667491 | J20: =I20+(($M20-$D20)/9) -> 0.19169611 | K20: =J20+(($M20-$D20)/9) -> 0.21664312 | L20: =K20+(($M20-$D20)/9) -> 0.24159013 | M20: 0.26653714 | O20: 2021 values based on actuals; 2030 values from GuideHouse forecast
B22: MWh Load by Location
B23: Home | D23: =D$15*D18 -> 20643.201 | E23: =E$15*E18 -> 52213.316 | F23: =F$15*F18 -> 99803.025 | G23: =G$15*G18 -> 158700.93 | H23: =H$15*H18 -> 221864.44 | I23: =I$15*I18 -> 296425.86 | J23: =J$15*J18 -> 389370 | K23: =K$15*K18 -> 500849.46 | ... M23: =M$15*M18 -> 797492
B24: Work | D24: =D$15*D19 -> 4076.6695 | E24: =E$15*E19 -> 10006.632 | F24: =F$15*F19 -> 18519.095 | G24: =G$15*G19 -> 28437.138 | H24: =H$15*H19 -> 38276.333 | I24: =I$15*I19 -> 49069.804 | J24: =J$15*J19 -> 61604.008 | K24: =K$15*K19 -> 75390.274 | ... M24: =M$15*M19 -> 106809.2
B25: Public | D25: =D$15*D20 -> 1084.1308 | E25: =E$15*E20 -> 4465.3165 | F25: =F$15*F20 -> 11975.394 | G25: =G$15*G20 -> 24761.548 | H25: =H$15*H20 -> 42983.682 | I25: =I$15*I20 -> 69140.15 | J25: =J$15*J20 -> 106952.31 | K25: =K$15*K20 -> 159363.35 | ... M25: =M$15*M20 -> 328619.04
B26: Total MWh Load | D26: =SUM(D23:D25) -> 25804.002 | E26: =SUM(E23:E25) -> 66685.265 | F26: =SUM(F23:F25) -> 130297.51 | G26: =SUM(G23:G25) -> 211899.62 | H26: =SUM(H23:H25) -> 303124.45 | I26: =SUM(I23:I25) -> 414635.81 | J26: =SUM(J23:J25) -> 557926.32 | K26: =SUM(K23:K25) -> 735603.08 | ... M26: =SUM(M23:M25) -> 1232920.2
B29: Charging by Rate Schedule
B31: Home Charging
B32: A72, A74 | C32: 1 | D32: =D23-D33 -> 856.01153 | E32: =E23-E33 -> 8496.0771 | F32: =F23-F33 -> 49901.512 | G32: =G$23*$C32 -> 158700.93 | H32: =H$23*$C32 -> 221864.44 | I32: =I$23*$C32 -> 296425.86 | J32: =J$23*$C32 -> 389370 | K32: =K$23*$C32 -> 500849.46 | L32: =L$23*$C32 -> 636512.8 | M32: =M$23*$C32 -> 797492 | O32: insert assumptions for breakout by rate schedule
C33: 0 | D33: =D23*0.958533004788756 -> 19787.19 | E33: =E23*0.837281411196383 -> 43717.239 | F33: =F23*0.5 -> 49901.512 | G33: =G$23*$C33 -> 0 | H33: =H$23*$C33 -> 0 | I33: =I$23*$C33 -> 0 | J33: =J$23*$C33 -> 0 | K33: =K$23*$C33 -> 0 | L33: =L$23*$C33 -> 0 | M33: =M$23*$C33 -> 0
B34: Total Home Charging (MWh) | D34: =SUM(D32:D33) -> 20643.201 | E34: =SUM(E32:E33) -> 52213.316 | F34: =SUM(F32:F33) -> 99803.025 | G34: =SUM(G32:G33) -> 158700.93 | H34: =SUM(H32:H33) -> 221864.44 | I34: =SUM(I32:I33) -> 296425.86 | J34: =SUM(J32:J33) -> 389370 | K34: =SUM(K32:K33) -> 500849.46 | ... M34: =SUM(M32:M33) -> 797492
B36: Work Charging
C37: 0 | D37: =D$24*0 -> 0 | E37: =E$24*0 -> 0 | F37: =F$24*$C37 -> 0 | G37: =G$24*$C37 -> 0 | H37: =H$24*$C37 -> 0 | I37: =I$24*$C37 -> 0 | J37: =J$24*$C37 -> 0 | K37: =K$24*$C37 -> 0 | L37: =L$24*$C37 -> 0 | M37: =M$24*$C37 -> 0
B38: A10 | C38: 1 | D38: =D$24*0.373380862919926 -> 1522.1504 | E38: =E$24*0.331647523637119 -> 3318.6749 | F38: =F$24*$C38 -> 18519.095 | G38: =G$24*$C38 -> 28437.138 | H38: =H$24*$C38 -> 38276.333 | I38: =I$24*$C38 -> 49069.804 | J38: =J$24*$C38 -> 61604.008 | K38: =K$24*$C38 -> 75390.274 | L38: =L$24*$C38 -> 90665.389 | M38: =M$24*$C38 -> 106809.2
C39: 0 | D39: =D$24*0 -> 0 | E39: =E$24*0 -> 0 | F39: =F$24*$C39 -> 0 | G39: =G$24*$C39 -> 0 | H39: =H$24*$C39 -> 0 | I39: =I$24*$C39 -> 0 | J39: =J$24*$C39 -> 0 | K39: =K$24*$C39 -> 0 | L39: =L$24*$C39 -> 0 | M39: =M$24*$C39 -> 0
C40: 0 | D40: =D$24-D38 -> 2554.5192 | E40: =E$24-E38 -> 6687.9576 | F40: =F$24*$C40 -> 0 | G40: =G$24*$C40 -> 0 | H40: =H$24*$C40 -> 0 | I40: =I$24*$C40 -> 0 | J40: =J$24*$C40 -> 0 | K40: =K$24*$C40 -> 0 | L40: =L$24*$C40 -> 0 | M40: =M$24*$C40 -> 0
B41: Total Work Charging (MWh) | D41: =SUM(D37:D40) -> 4076.6695 | E41: =SUM(E37:E40) -> 10006.632 | F41: =SUM(F37:F40) -> 18519.095 | G41: =SUM(G37:G40) -> 28437.138 | H41: =SUM(H37:H40) -> 38276.333 | I41: =SUM(I37:I40) -> 49069.804 | J41: =SUM(J37:J40) -> 61604.008 | K41: =SUM(K37:K40) -> 75390.274 | ... M41: =SUM(M37:M40) -> 106809.2
B43: Public Charging
B44: A94 | C44: 1 | D44: =D$25*$C44 -> 1084.1308 | E44: =E$25*$C44 -> 4465.3165 | F44: =F$25*$C44 -> 11975.394 | G44: =G$25*$C44 -> 24761.548 | H44: =H$25*$C44 -> 42983.682 | I44: =I$25*$C44 -> 69140.15 | J44: =J$25*$C44 -> 106952.31 | K44: =K$25*$C44 -> 159363.35 | ... M44: =M$25*$C44 -> 328619.04
B45: Total Public Charging (MWh) | D45: =SUM(D44) -> 1084.1308 | E45: =SUM(E44) -> 4465.3165 | F45: =SUM(F44) -> 11975.394 | G45: =SUM(G44) -> 24761.548 | H45: =SUM(H44) -> 42983.682 | I45: =SUM(I44) -> 69140.15 | J45: =SUM(J44) -> 106952.31 | K45: =SUM(K44) -> 159363.35 | ... M45: =SUM(M44) -> 328619.04
B48: Billing Volume Impacts
B50: Home Charging
B52: Sch. RETOU
B53: Energy - Summer On-Peak (kWh) | C53: ='Load Data'!F21 -> 0.04389234 | D53: =D$32*$C53*1000 -> 37572.35 | E53: =E$32*$C53*1000 -> 372912.71 | F53: =F$32*$C53*1000 -> 2190294.2 | G53: =G$32*$C53*1000 -> 6965755.4 | H53: =H$32*$C53*1000 -> 9738149.4 | I53: =I$32*$C53*1000 -> 13010825 | J53: =J$32*$C53*1000 -> 17090361 | K53: =K$32*$C53*1000 -> 21983455 | ... M53: =M$32*$C53*1000 -> 35003790
B54: Energy - Summer Mid-Peak (kWh) | C54: ='Load Data'!F22 -> 0.17581715 | D54: =D$32*$C54*1000 -> 150501.51 | E54: =E$32*$C54*1000 -> 1493756.1 | F54: =F$32*$C54*1000 -> 8773541.6 | G54: =G$32*$C54*1000 -> 27902346 | H54: =H$32*$C54*1000 -> 39007573 | I54: =I$32*$C54*1000 -> 52116749 | J54: =J$32*$C54*1000 -> 68457924 | K54: =K$32*$C54*1000 -> 88057923 | ... M54: =M$32*$C54*1000 -> 1.4021277e+08
...

Sheet Rates
C2: 2021 | D2: 2022 | E2: 2023 | F2: 2024 | G2: 2025 | H2: 2026 | I2: 2027 | J2: 2028 | K2: 2029 | L2: 2030
E3: PSCO | F3: NSP
B4: A72, A74 - Residential TOU | F4: 2024
B5: Energy - Summer On-Peak | E5: 0.17246 | F5: 0.27845 | N5: input applicable rates
B6: Energy - Summer Mid-Peak | E6: 0.11816 | F6: 0.11307
B7: Energy - Summer Off-Peak | E7: 0.06387 | F7: 0.03825
B8: Energy - Winter On-Peak | E8: 0.10858 | F8: 0.24869
B9: Energy - Winter Mid-Peak | E9: 0.08623 | F9: 0.09907
B10: Energy - Winter Off-Peak | E10: 0.06387 | F10: 0.03825
B12: CIP | E12: 0.01271 | F12: 0.002225
E13: 0.0506
E14: 0.0247
B15: RDF | E15: 0.03078 | F15: 0.001176
E16: 0.0136
E17: 0.0014
B18: TCR | E18: 0.00239 | F18: 0.005856
B19: RES | E19: 0.01 | F19: 0.01
E20: 0.01
B22: All-In RES TOU Rates
B23: Energy - Summer On-Peak | C23: 0.25698 | D23: 0.29198801 | E23: =ROUND((E5*(1+E$11+E$13+E$14+E$16+E$17)+E$12+E$15+E$18)*(1+E$19+E$20),5) -> 0.23859 | F23: =ROUND((F5*(1+F$19)+F$12+F$15+F$18),5) -> 0.29049 | G23: =F23*(1+'Retail Rate Impact'!$C$29) -> 0.2962998 | H23: =G23*(1+'Retail Rate Impact'!$C$29) -> 0.3022258 | I23: =H23*(1+'Retail Rate Impact'!$C$29) -> 0.30827031 | J23: =I23*(1+'Retail Rate Impact'!$C$29) -> 0.31443572 | K23: =J23*(1+'Retail Rate Impact'!$C$29) -> 0.32072443 | L23: =K23*(1+'Retail Rate Impact'!$C$29) -> 0.32713892
B24: Energy - Summer Mid-Peak | C24: 0.17953 | D24: 0.20508738 | E24: =ROUND((E6*(1+E$11+E$13+E$14+E$16+E$17)+E$12+E$15+E$18)*(1+E$19+E$20),5) -> 0.1782 | F24: =ROUND((F6*(1+F$19)+F$12+F$15+F$18),5) -> 0.12346 | G24: =F24*(1+'Retail Rate Impact'!$C$29) -> 0.1259292 | H24: =G24*(1+'Retail Rate Impact'!$C$29) -> 0.12844778 | I24: =H24*(1+'Retail Rate Impact'!$C$29) -> 0.13101674 | J24: =I24*(1+'Retail Rate Impact'!$C$29) -> 0.13363707 | K24: =J24*(1+'Retail Rate Impact'!$C$29) -> 0.13630982 | L24: =K24*(1+'Retail Rate Impact'!$C$29) -> 0.13903601
B25: Energy - Summer Off-Peak | C25: 0.10211 | D25: 0.11820274 | E25: =ROUND((E7*(1+E$11+E$13+E$14+E$16+E$17)+E$12+E$15+E$18)*(1+E$19+E$20),5) -> 0.11783 | F25: =ROUND((F7*(1+F$19)+F$12+F$15+F$18),5) -> 0.04789 | G25: =F25*(1+'Retail Rate Impact'!$C$29) -> 0.0488478 | H25: =G25*(1+'Retail Rate Impact'!$C$29) -> 0.049824756 | I25: =H25*(1+'Retail Rate Impact'!$C$29) -> 0.050821251 | J25: =I25*(1+'Retail Rate Impact'!$C$29) -> 0.051837676 | K25: =J25*(1+'Retail Rate Impact'!$C$29) -> 0.05287443 | L25: =K25*(1+'Retail Rate Impact'!$C$29) -> 0.053931918
B26: Energy - Winter On-Peak | C26: 0.16842 | D26: 0.18975573 | E26: =ROUND((E8*(1+E$11+E$13+E$14+E$16+E$17)+E$12+E$15+E$18)*(1+E$19+E$20),5) -> 0.16755 | F26: =ROUND((F8*(1+F$19)+F$12+F$15+F$18),5) -> 0.26043 | G26: =F26*(1+'Retail Rate Impact'!$C$29) -> 0.2656386 | H26: =G26*(1+'Retail Rate Impact'!$C$29) -> 0.27095137 | I26: =H26*(1+'Retail Rate Impact'!$C$29) -> 0.2763704 | J26: =I26*(1+'Retail Rate Impact'!$C$29) -> 0.28189781 | K26: =J26*(1+'Retail Rate Impact'!$C$29) -> 0.28753576 | L26: =K26*(1+'Retail Rate Impact'!$C$29) -> 0.29328648
B27: Energy - Winter Mid-Peak | C27: 0.13563 | D27: 0.15398724 | E27: =ROUND((E9*(1+E$11+E$13+E$14+E$16+E$17)+E$12+E$15+E$18)*(1+E$19+E$20),5) -> 0.14269 | F27: =ROUND((F9*(1+F$19)+F$12+F$15+F$18),5) -> 0.10932 | G27: =F27*(1+'Retail Rate Impact'!$C$29) -> 0.1115064 | H27: =G27*(1+'Retail Rate Impact'!$C$29) -> 0.11373653 | I27: =H27*(1+'Retail Rate Impact'!$C$29) -> 0.11601126 | J27: =I27*(1+'Retail Rate Impact'!$C$29) -> 0.11833148 | K27: =J27*(1+'Retail Rate Impact'!$C$29) -> 0.12069811 | L27: =K27*(1+'Retail Rate Impact'!$C$29) -> 0.12311208
B28: Energy - Winter Off-Peak | C28: 0.10285 | D28: 0.11820274 | E28: =ROUND((E10*(1+E$11+E$13+E$14+E$16+E$17)+E$12+E$15+E$18)*(1+E$19+E$20),5) -> 0.11783 | F28: =ROUND((F10*(1+F$19)+F$12+F$15+F$18),5) -> 0.04789 | G28: =F28*(1+'Retail Rate Impact'!$C$29) -> 0.0488478 | H28: =G28*(1+'Retail Rate Impact'!$C$29) -> 0.049824756 | I28: =H28*(1+'Retail Rate Impact'!$C$29) -> 0.050821251 | J28: =I28*(1+'Retail Rate Impact'!$C$29) -> 0.051837676 | K28: =J28*(1+'Retail Rate Impact'!$C$29) -> 0.05287443 | L28: =K28*(1+'Retail Rate Impact'!$C$29) -> 0.053931918
B32: Sch. R / ROO
B33: Energy - Summer | E33: 0.08356
B34: Energy - Winter | E34: 0.07136
B35: GRSA
B36: GRSA-E | E36: 0.01271
B37: PCCA | E37: 0.0506
B38: DSMCA | E38: 0.0247
B39: ECA | E39: 0.03078
B40: TCA | E40: 0.0136
B41: TEPA | E41: 0.0014
B42: EGCRR | E42: 0.00239
B43: RESA | E43: 0.01
B44: CEPA | E44: 0.01
B46: All-In R / ROO Rates
B47: Energy - Summer | C47: 0.12893 | D47: 0.13983392 | E47: =ROUND((E33*(1+E$35+E$37+E$38+E$40+E$41)+E$36+E$39+E$42)*(1+E$43+E$44),5) -> 0.13973 | F47: =E47*(1+'Retail Rate Impact'!$C$29) -> 0.1425246 | G47: =F47*(1+'Retail Rate Impact'!$C$29) -> 0.14537509 | H47: =G47*(1+'Retail Rate Impact'!$C$29) -> 0.14828259 | I47: =H47*(1+'Retail Rate Impact'!$C$29) -> 0.15124825 | J47: =I47*(1+'Retail Rate Impact'!$C$29) -> 0.15427321 | K47: =J47*(1+'Retail Rate Impact'!$C$29) -> 0.15735867 | L47: =K47*(1+'Retail Rate Impact'!$C$29) -> 0.16050585
...

Sheet EV Forecast
B2: Select Scenario
B3: Mid
B5: EV Count (incremental from 2020) | H5: MWh Load | N5: kWh/EV
B6: Year | C6: LDV | D6: MDV | E6: HDV | F6: Total | H6: Year | I6: LDV | J6: MDV | K6: HDV | L6: Total | N6: LDV | O6: MDV | P6: HDV
B7: 2020 | C7: 14225 | D7: 0 | E7: 8 | H7: 2020 | I7: 48117.889 | J7: 0 | K7: 640.72305 | L7: =SUM(I7:K7) -> 48758.613 | N7: =IFERROR((I7*1000)/C7,"") -> 3382.6284 | O7: =IFERROR((J7*1000)/D7,"") | P7: =IFERROR((K7*1000)/E7,"") -> 80090.382
B8: 2021 | C8: =INDEX($B28:$G28,MATCH($B$3,$B$27:$G$27,0))-C$7 -> 6216 | D8: =INDEX($H28:$M28,MATCH($B$3,$H$27:$M$27,0))-D$7 -> 0 | E8: =INDEX($N28:$S28,MATCH($B$3,$N$27:$S$27,0))-E$7 -> 0 | F8: =SUM(C8:E8) -> 6216 | H8: 2021 | I8: =INDEX($B64:$G64,MATCH($B$3,$B$63:$G$63,0))-I$7 -> 25398.442 | J8: =INDEX($H64:$M64,MATCH($B$3,$H$63:$M$63,0))-J$7 -> 0 | K8: =INDEX($N64:$S64,MATCH($B$3,$N$63:$S$63,0))-K$7 -> 405.55962 | L8: =SUM(I8:K8) -> 25804.002 | N8: =IFERROR((C64*1000)/C28,"") -> 3596.5135 | O8: =IFERROR((I64*1000)/I28,"") | P8: =IFERROR((O64*1000)/O28,"") -> 130785.33
B9: 2022 | C9: =INDEX($B29:$G29,MATCH($B$3,$B$27:$G$27,0))-C$7 -> 18251.612 | D9: =INDEX($H29:$M29,MATCH($B$3,$H$27:$M$27,0))-D$7 -> 40.022876 | E9: =INDEX($N29:$S29,MATCH($B$3,$N$27:$S$27,0))-E$7 -> 0 | F9: =SUM(C9:E9) -> 18291.635 | H9: 2022 | I9: =INDEX($B65:$G65,MATCH($B$3,$B$63:$G$63,0))-I$7 -> 65226.938 | J9: =INDEX($H65:$M65,MATCH($B$3,$H$63:$M$63,0))-J$7 -> 1052.7673 | K9: =INDEX($N65:$S65,MATCH($B$3,$N$63:$S$63,0))-K$7 -> 405.55962 | L9: =SUM(I9:K9) -> 66685.265 | N9: =IFERROR((C65*1000)/C29,"") -> 3490.0447 | O9: =IFERROR((I65*1000)/I29,"") -> 26304.138 | P9: =IFERROR((O65*1000)/O29,"") -> 130785.33
B10: 2023 | C10: =INDEX($B30:$G30,MATCH($B$3,$B$27:$G$27,0))-C$7 -> 33601.013 | D10: =INDEX($H30:$M30,MATCH($B$3,$H$27:$M$27,0))-D$7 -> 129.68761 | E10: =INDEX($N30:$S30,MATCH($B$3,$N$27:$S$27,0))-E$7 -> 6.7088307 | F10: =SUM(C10:E10) -> 33737.41 | H10: 2023 | I10: =INDEX($B66:$G66,MATCH($B$3,$B$63:$G$63,0))-I$7 -> 125603.22 | J10: =INDEX($H66:$M66,MATCH($B$3,$H$63:$M$63,0))-J$7 -> 3411.3209 | K10: =INDEX($N66:$S66,MATCH($B$3,$N$63:$S$63,0))-K$7 -> 1282.9763 | L10: =SUM(I10:K10) -> 130297.51 | N10: =IFERROR((C66*1000)/C30,"") -> 3632.356 | O10: =IFERROR((I66*1000)/I30,"") -> 26304.138 | P10: =IFERROR((O66*1000)/O30,"") -> 130785.33
B11: 2024 | C11: =INDEX($B31:$G31,MATCH($B$3,$B$27:$G$27,0))-C$7 -> 50402.528 | D11: =INDEX($H31:$M31,MATCH($B$3,$H$27:$M$27,0))-D$7 -> 277.47229 | E11: =INDEX($N31:$S31,MATCH($B$3,$N$27:$S$27,0))-E$7 -> 50.513155 | F11: =SUM(C11:E11) -> 50730.514 | H11: 2024 | I11: =INDEX($B67:$G67,MATCH($B$3,$B$63:$G$63,0))-I$7 -> 197589.01 | J11: =INDEX($H67:$M67,MATCH($B$3,$H$63:$M$63,0))-J$7 -> 7298.6695 | K11: =INDEX($N67:$S67,MATCH($B$3,$N$63:$S$63,0))-K$7 -> 7011.9394 | L11: =SUM(I11:K11) -> 211899.62 | N11: =IFERROR((C67*1000)/C31,"") -> 3801.8923 | O11: =IFERROR((I67*1000)/I31,"") -> 26304.138 | P11: =IFERROR((O67*1000)/O31,"") -> 130785.33
B12: 2025 | C12: =INDEX($B32:$G32,MATCH($B$3,$B$27:$G$27,0))-C$7 -> 65423.879 | D12: =INDEX($H32:$M32,MATCH($B$3,$H$27:$M$27,0))-D$7 -> 496.04121 | E12: =INDEX($N32:$S32,MATCH($B$3,$N$27:$S$27,0))-E$7 -> 148.31749 | F12: =SUM(C12:E12) -> 66068.238 | H12: 2025 | I12: =INDEX($B68:$G68,MATCH($B$3,$B$63:$G$63,0))-I$7 -> 270273.2 | J12: =INDEX($H68:$M68,MATCH($B$3,$H$63:$M$63,0))-J$7 -> 13047.937 | K12: =INDEX($N68:$S68,MATCH($B$3,$N$63:$S$63,0))-K$7 -> 19803.313 | L12: =SUM(I12:K12) -> 303124.45 | N12: =IFERROR((C68*1000)/C32,"") -> 3997.4334 | O12: =IFERROR((I68*1000)/I32,"") -> 26304.138 | P12: =IFERROR((O68*1000)/O32,"") -> 130785.33
B13: 2026 | C13: =INDEX($B33:$G33,MATCH($B$3,$B$27:$G$27,0))-C$7 -> 84637.853 | D13: =INDEX($H33:$M33,MATCH($B$3,$H$27:$M$27,0))-D$7 -> 796.71544 | E13: =INDEX($N33:$S33,MATCH($B$3,$N$27:$S$27,0))-E$7 -> 332.6806 | F13: =SUM(C13:E13) -> 85767.249 | H13: 2026 | I13: =INDEX($B69:$G69,MATCH($B$3,$B$63:$G$63,0))-I$7 -> 349763.59 | J13: =INDEX($H69:$M69,MATCH($B$3,$H$63:$M$63,0))-J$7 -> 20956.913 | K13: =INDEX($N69:$S69,MATCH($B$3,$N$63:$S$63,0))-K$7 -> 43915.304 | L13: =SUM(I13:K13) -> 414635.81 | N13: =IFERROR((C69*1000)/C33,"") -> 4024.5802 | O13: =IFERROR((I69*1000)/I33,"") -> 26304.138 | P13: =IFERROR((O69*1000)/O33,"") -> 130785.33
B14: 2027 | C14: =INDEX($B34:$G34,MATCH($B$3,$B$27:$G$27,0))-C$7 -> 107301.05 | D14: =INDEX($H34:$M34,MATCH($B$3,$H$27:$M$27,0))-D$7 -> 1181.6311 | E14: =INDEX($N34:$S34,MATCH($B$3,$N$27:$S$27,0))-E$7 -> 599.63851 | F14: =SUM(C14:E14) -> 109082.32 | H14: 2027 | I14: =INDEX($B70:$G70,MATCH($B$3,$B$63:$G$63,0))-I$7 -> 448015.05 | J14: =INDEX($H70:$M70,MATCH($B$3,$H$63:$M$63,0))-J$7 -> 31081.788 | K14: =INDEX($N70:$S70,MATCH($B$3,$N$63:$S$63,0))-K$7 -> 78829.483 | L14: =SUM(I14:K14) -> 557926.32 | N14: =IFERROR((C70*1000)/C34,"") -> 4082.5234 | O14: =IFERROR((I70*1000)/I34,"") -> 26304.138 | P14: =IFERROR((O70*1000)/O34,"") -> 130785.33
B15: 2028 | C15: =INDEX($B35:$G35,MATCH($B$3,$B$27:$G$27,0))-C$7 -> 135717.64 | D15: =INDEX($H35:$M35,MATCH($B$3,$H$27:$M$27,0))-D$7 -> 1658.6741 | E15: =INDEX($N35:$S35,MATCH($B$3,$N$27:$S$27,0))-E$7 -> 936.28209 | F15: =SUM(C15:E15) -> 138312.59 | H15: 2028 | I15: =INDEX($B71:$G71,MATCH($B$3,$B$63:$G$63,0))-I$7 -> 569115.56 | J15: =INDEX($H71:$M71,MATCH($B$3,$H$63:$M$63,0))-J$7 -> 43629.992 | K15: =INDEX($N71:$S71,MATCH($B$3,$N$63:$S$63,0))-K$7 -> 122857.53 | L15: =SUM(I15:K15) -> 735603.08 | N15: =IFERROR((C71*1000)/C35,"") -> 4116.4639 | O15: =IFERROR((I71*1000)/I35,"") -> 26304.138 | P15: =IFERROR((O71*1000)/O35,"") -> 130785.33
B16: 2029 | C16: =INDEX($B36:$G36,MATCH($B$3,$B$27:$G$27,0))-C$7 -> 170838.4 | D16: =INDEX($H36:$M36,MATCH($B$3,$H$27:$M$27,0))-D$7 -> 2231.4264 | E16: =INDEX($N36:$S36,MATCH($B$3,$N$27:$S$27,0))-E$7 -> 1364.9997 | F16: =SUM(C16:E16) -> 174434.83 | H16: 2029 | I16: =INDEX($B72:$G72,MATCH($B$3,$B$63:$G$63,0))-I$7 -> 721196.27 | J16: =INDEX($H72:$M72,MATCH($B$3,$H$63:$M$63,0))-J$7 -> 58695.748 | K16: =INDEX($N72:$S72,MATCH($B$3,$N$63:$S$63,0))-K$7 -> 178927.5 | L16: =SUM(I16:K16) -> 958819.52 | N16: =IFERROR((C72*1000)/C36,"") -> 4157.0302 | O16: =IFERROR((I72*1000)/I36,"") -> 26304.138 | P16: =IFERROR((O72*1000)/O36,"") -> 130785.33
B17: 2030 | C17: =INDEX($B37:$G37,MATCH($B$3,$B$27:$G$27,0))-C$7 -> 215214.16 | D17: =INDEX($H37:$M37,MATCH($B$3,$H$27:$M$27,0))-D$7 -> 2847.4684 | E17: =INDEX($N37:$S37,MATCH($B$3,$N$27:$S$27,0))-E$7 -> 1868.2689 | F17: =SUM(C17:E17) -> 219929.9 | H17: 2030 | I17: =INDEX($B73:$G73,MATCH($B$3,$B$63:$G$63,0))-I$7 -> 913272.3 | J17: =INDEX($H73:$M73,MATCH($B$3,$H$63:$M$63,0))-J$7 -> 74900.203 | K17: =INDEX($N73:$S73,MATCH($B$3,$N$63:$S$63,0))-K$7 -> 244747.74 | L17: =SUM(I17:K17) -> 1232920.2 | N17: =IFERROR((C73*1000)/C37,"") -> 4190.1747 | O17: =IFERROR((I73*1000)/I37,"") -> 26304.138 | P17: =IFERROR((O73*1000)/O37,"") -> 130785.33
C21: MN
C22: CO
B25: EV Count
B26: LDV | H26: MDV | N26: HDV | T26: Total
A27: Year | B27: Low | C27: Mid | D27: High | E27: "Vision" | F27: GH - Target | G27: GH - Scen.1 | H27: Low | I27: Mid | J27: High | K27: "Vision" | L27: GH - Target | M27: GH - Scen.1 | N27: Low | O27: Mid | P27: High | Q27: "Vision" | R27: GH - Target | S27: GH - Scen.1 | T27: Low | U27: Mid | V27: High | W27: "Vision" | X27: GH - Target | Y27: GH - Scen.1
A28: 2021 | B28: 41919 | C28: 20441 | D28: 41919 | E28: 41919 | F28: =E28 -> 41919 | G28: =F28 -> 41919 | H28: 0 | I28: 0 | J28: 0 | K28: 0 | L28: =K28 -> 0 | M28: =L28 -> 0 | N28: 46 | O28: 8 | P28: 46 | Q28: 46 | R28: =Q28 -> 46 | S28: =R28 -> 46 | T28: =SUM(B28,H28,N28) -> 41965 | U28: =SUM(C28,I28,O28) -> 20449 | V28: =SUM(D28,J28,P28) -> 41965 | W28: =SUM(E28,K28,Q28) -> 41965 | X28: =SUM(F28,L28,R28) -> 41965 | Y28: =SUM(G28,M28,S28) -> 41965 | AA28: forecast counts and load from various sources (Low/Mid/High/Vision come from Risk, GH come from GuideHouse)
A29: 2022 | B29: 50471.638 | C29: 32476.612 | D29: 89515.027 | E29: 90734.519 | F29: 59409.973 | G29: 50500.205 | H29: 0 | I29: 40.022876 | J29: 0 | K29: 0 | L29: 177.70611 | M29: 177.77132 | N29: 68.151334 | O29: 8 | P29: 101.44233 | Q29: 102.82431 | R29: 138.93947 | S29: 138.98177 | T29: =SUM(B29,H29,N29) -> 50539.79 | U29: =SUM(C29,I29,O29) -> 32524.635 | V29: =SUM(D29,J29,P29) -> 89616.47 | W29: =SUM(E29,K29,Q29) -> 90837.343 | X29: =SUM(F29,L29,R29) -> 59726.618 | Y29: =SUM(G29,M29,S29) -> 50816.958
A30: 2023 | B30: 62312.044 | C30: 47826.013 | D30: 159333.81 | E30: 163675.12 | F30: 98748.976 | G30: 75352.215 | H30: 54.925698 | I30: 129.68761 | J30: 166.92492 | K30: 171.47306 | L30: 390.04899 | M30: 390.20962 | N30: 74.485389 | O30: 14.708831 | P30: 141.37927 | Q30: 145.23138 | R30: 252.53377 | S30: 252.62322 | T30: =SUM(B30,H30,N30) -> 62441.455 | U30: =SUM(C30,I30,O30) -> 47970.41 | V30: =SUM(D30,J30,P30) -> 159642.11 | W30: =SUM(E30,K30,Q30) -> 163991.82 | X30: =SUM(F30,L30,R30) -> 99391.558 | Y30: =SUM(G30,M30,S30) -> 75995.048
A31: 2024 | B31: 74803.917 | C31: 64627.528 | D31: 222038.07 | E31: 231112.76 | F31: 143213.5 | G31: 106503 | H31: 166.07248 | I31: 277.47229 | J31: 558.52817 | K31: 581.3552 | L31: 633.41378 | M31: 633.69986 | N31: 87.510438 | O31: 58.513155 | P31: 189.3478 | Q31: 197.08644 | R31: 384.29368 | S31: 384.43588 | T31: =SUM(B31,H31,N31) -> 75057.5 | U31: =SUM(C31,I31,O31) -> 64963.514 | V31: =SUM(D31,J31,P31) -> 222785.95 | W31: =SUM(E31,K31,Q31) -> 231891.2 | X31: =SUM(F31,L31,R31) -> 144231.21 | Y31: =SUM(G31,M31,S31) -> 107521.13
A32: 2025 | B32: 87611.315 | C32: 79648.879 | D32: 266416.91 | E32: 280934.84 | F32: 193329.13 | G32: 144279.52 | H32: 344.29327 | I32: 496.04121 | J32: 1185.9475 | K32: 1250.5737 | L32: 907.08209 | M32: 907.52222 | N32: 115.73857 | O32: 156.31749 | P32: 268.39891 | Q32: 283.02484 | R32: 534.07241 | S32: 534.27319 | T32: =SUM(B32,H32,N32) -> 88071.347 | U32: =SUM(C32,I32,O32) -> 80301.238 | V32: =SUM(D32,J32,P32) -> 267871.25 | W32: =SUM(E32,K32,Q32) -> 282468.43 | X32: =SUM(F32,L32,R32) -> 194770.28 | Y32: =SUM(G32,M32,S32) -> 145721.32
A33: 2026 | B33: 103148.67 | C33: 98862.853 | D33: 311007.16 | E33: 332191.91 | F33: 249464.3 | G33: 188785.27 | H33: 562.2351 | I33: 796.71544 | J33: 2009.3159 | K33: 2146.1836 | L33: 1210.072 | M33: 1210.693 | N33: 168.06693 | O33: 340.6806 | P33: 414.14515 | Q33: 442.35531 | R33: 701.42405 | S33: 701.68925 | T33: =SUM(B33,H33,N33) -> 103878.97 | U33: =SUM(C33,I33,O33) -> 100000.25 | V33: =SUM(D33,J33,P33) -> 313430.62 | W33: =SUM(E33,K33,Q33) -> 334780.45 | X33: =SUM(F33,L33,R33) -> 251375.79 | Y33: =SUM(G33,M33,S33) -> 190697.65
A34: 2027 | B34: 122346.32 | C34: 121526.05 | D34: 360379.56 | E34: 389836.95 | F34: 311441.53 | G34: 239600.1 | H34: 821.37325 | I34: 1181.6311 | J34: 2979.2038 | K34: 3222.7236 | L34: 1541.5881 | M34: 1542.4152 | N34: 245.82438 | O34: 607.63851 | P34: 627.28565 | Q34: 678.55992 | R34: 885.9457 | S34: 886.28111 | T34: =SUM(B34,H34,N34) -> 123413.51 | U34: =SUM(C34,I34,O34) -> 123315.32 | V34: =SUM(D34,J34,P34) -> 363986.05 | W34: =SUM(E34,K34,Q34) -> 393738.24 | X34: =SUM(F34,L34,R34) -> 313869.06 | Y34: =SUM(G34,M34,S34) -> 242028.8
A35: 2028 | B35: 146603.31 | C35: 149942.64 | D35: 423085.03 | E35: 463431.78 | F35: 380730.35 | G35: 297826.1 | H35: 1114.9445 | I35: 1658.6741 | J35: 4092.2933 | K35: 4482.5476 | L35: 1899.733 | M35: 1900.7894 | N35: 339.49788 | O35: 944.28209 | P35: 891.53863 | Q35: 976.55863 | R35: 1086.5373 | S35: 1086.9483 | T35: =SUM(B35,H35,N35) -> 148057.75 | U35: =SUM(C35,I35,O35) -> 152545.59 | V35: =SUM(D35,J35,P35) -> 428068.86 | W35: =SUM(E35,K35,Q35) -> 468890.89 | X35: =SUM(F35,L35,R35) -> 383716.62 | Y35: =SUM(G35,M35,S35) -> 300813.83
A36: 2029 | B36: 177121.23 | C36: 185063.4 | D36: 501616 | E36: 556285.39 | F36: 457250.08 | G36: 363284.29 | H36: 1441.2828 | I36: 2231.4264 | J36: 5356.9723 | K36: 5940.8102 | L36: 2282.8847 | M36: 2284.1918 | N36: 445.74224 | O36: 1372.9997 | P36: 1202.2996 | Q36: 1333.3341 | R36: 1302.2636 | S36: 1302.7554 | T36: =SUM(B36,H36,N36) -> 179008.26 | U36: =SUM(C36,I36,O36) -> 188667.83 | V36: =SUM(D36,J36,P36) -> 508175.27 | W36: =SUM(E36,K36,Q36) -> 563559.54 | X36: =SUM(F36,L36,R36) -> 460835.23 | Y36: =SUM(G36,M36,S36) -> 366871.24
A37: 2030 | B37: 215310.76 | C37: 229439.16 | D37: 598728.15 | E37: 680294.79 | F37: 540064.82 | G37: 435056.72 | H37: 1799.7716 | I37: 2847.4684 | J37: 6770.7146 | K37: 7693.1106 | L37: 2688.7266 | M37: 2690.3035 | N37: 565.88686 | O37: 1876.2689 | P37: 1570.4695 | Q37: 1784.4195 | R37: 1531.7418 | S37: 1532.3188 | T37: =SUM(B37,H37,N37) -> 217676.42 | U37: =SUM(C37,I37,O37) -> 234162.9 | V37: =SUM(D37,J37,P37) -> 607069.33 | W37: =SUM(E37,K37,Q37) -> 689772.32 | X37: =SUM(F37,L37,R37) -> 544285.29 | Y37: =SUM(G37,M37,S37) -> 439279.34
A38: 2031 | B38: 263385.11 | C38: 284570.42 | D38: 718542.44 | E38: 0 | F38: 0 | G38: 0 | H38: 2237.8242 | I38: 3497.2282 | J38: 8335.8871 | K38: 0 | L38: 0 | M38: 0 | N38: 716.02557 | O38: 2456.0372 | P38: 2002.4646 | Q38: 0 | R38: 0 | S38: 0 | T38: =SUM(B38,H38,N38) -> 266338.96 | U38: =SUM(C38,I38,O38) -> 290523.68 | V38: =SUM(D38,J38,P38) -> 728880.79 | W38: =SUM(E38,K38,Q38) -> 0 | X38: =SUM(F38,L38,R38) -> 0 | Y38: =SUM(G38,M38,S38) -> 0
A39: 2032 | B39: 323131.29 | C39: 353003.21 | D39: 844777.58 | E39: 0 | F39: 0 | G39: 0 | H39: 2745.4515 | I39: 4338.233 | J39: 9800.3543 | K39: 0 | L39: 0 | M39: 0 | N39: 878.44856 | O39: 3046.6589 | P39: 2354.2621 | Q39: 0 | R39: 0 | S39: 0 | T39: =SUM(B39,H39,N39) -> 326755.19 | U39: =SUM(C39,I39,O39) -> 360388.1 | V39: =SUM(D39,J39,P39) -> 856932.19 | W39: =SUM(E39,K39,Q39) -> 0 | X39: =SUM(F39,L39,R39) -> 0 | Y39: =SUM(G39,M39,S39) -> 0
A40: 2033 | B40: 396766.19 | C40: 437377 | D40: 973915.59 | E40: 0 | F40: 0 | G40: 0 | H40: 3371.0827 | I40: 5375.1447 | J40: 11298.498 | K40: 0 | L40: 0 | M40: 0 | N40: 1078.6287 | O40: 3774.8624 | P40: 2714.1494 | Q40: 0 | R40: 0 | S40: 0 | T40: =SUM(B40,H40,N40) -> 401215.9 | U40: =SUM(C40,I40,O40) -> 446527 | V40: =SUM(D40,J40,P40) -> 987928.23 | W40: =SUM(E40,K40,Q40) -> 0 | X40: =SUM(F40,L40,R40) -> 0 | Y40: =SUM(G40,M40,S40) -> 0
... A58: 2051 | B58: 2393774.9 | C58: 2396164.6 | D58: 3386803 | E58: 0 | F58: 0 | G58: 0 | H58: 20338.46 | I58: 29447.665 | J58: 39290.661 | K58: 0 | L58: 0 | M58: 0 | N58: 6507.5966 | O58: 20680.538 | P58: 9438.4866 | Q58: 0 | R58: 0 | S58: 0 | T58: =SUM(B58,H58,N58) -> 2420620.9 | U58: =SUM(C58,I58,O58) -> 2446292.8 | V58: =SUM(D58,J58,P58) -> 3435532.1 | W58: =SUM(E58,K58,Q58) -> 0 | X58: =SUM(F58,L58,R58) -> 0 | Y58: =SUM(G58,M58,S58) -> 0
C59: 2501341.8 | I59: 30740.24 | O59: 21588.289
B61: MWh Load
B62: LDV | H62: MDV | N62: HDV | T62: Total
A63: Year | B63: Low | C63: Mid | D63: High | E63: "Vision" | F63: GH - Target | G63: GH - Scen.1 | H63: Low | I63: Mid | J63: High | K63: "Vision" | L63: GH - Target | M63: GH - Scen.1 | N63: Low | O63: Mid | P63: High | Q63: "Vision" | R63: GH - Target | S63: GH - Scen.1 | T63: Low | U63: Mid | V63: High | W63: "Vision" | X63: GH - Target | Y63: GH - Scen.1
A64: 2021 | B64: 151163.79 | C64: 73516.332 | D64: 151163.79 | E64: 151163.79 | F64: =E64 -> 151163.79 | G64: =F64 -> 151163.79 | H64: 0 | I64: 0 | J64: 0 | K64: 0 | L64: =K64 -> 0 | M64: =L64 -> 0 | N64: 6985.0733 | O64: 1046.2827 | P64: 6985.0733 | Q64: 6985.0733 | R64: =Q64 -> 6985.0733 | S64: =R64 -> 6985.0733 | T64: =SUM(B64,H64,N64) -> 158148.87 | U64: =SUM(C64,I64,O64) -> 74562.614 | V64: =SUM(D64,J64,P64) -> 158148.87 | W64: =SUM(E64,K64,Q64) -> 158148.87 | X64: =SUM(F64,L64,R64) -> 158148.87 | Y64: =SUM(G64,M64,S64) -> 158148.87
A65: 2022 | B65: 197892.55 | C65: 113344.83 | D65: 281520.02 | E65: 282354.11 | F65: 210489 | G65: 178921.77 | H65: 0 | I65: 1052.7673 | J65: 0 | K65: 0 | L65: 5529.9076 | M65: 5531.937 | N65: 10348.741 | O65: 1046.2827 | P65: 15403.959 | Q65: 15613.812 | R65: 21097.878 | S65: 21104.3 | T65: =SUM(B65,H65,N65) -> 208241.29 | U65: =SUM(C65,I65,O65) -> 115443.88 | V65: =SUM(D65,J65,P65) -> 296923.98 | W65: =SUM(E65,K65,Q65) -> 297967.92 | X65: =SUM(F65,L65,R65) -> 237116.79 | Y65: =SUM(G65,M65,S65) -> 205558.01
...

Sheet Load Data
C1: Home | AB1: Public | BA1: Work
C2: 0 | D2: 0.041666667 | E2: 0.083333333 | F2: 0.125 | G2: 0.16666667 | H2: 0.20833333 | I2: 0.25 | J2: 0.29166667 | K2: 0.33333333 | L2: 0.375 | M2: 0.41666667 | N2: 0.45833333 | O2: 0.5 | P2: 0.54166667 | Q2: 0.58333333 | R2: 0.625 | S2: 0.66666667 | T2: 0.70833333 | U2: 0.75 | V2: 0.79166667 | W2: 0.83333333 | X2: 0.875 | Y2: 0.91666667 | Z2: 0.95833333 | AB2: 0 | AC2: 0.041666667 | AD2: 0.083333333 | AE2: 0.125 | AF2: 0.16666667 | AG2: 0.20833333 | AH2: 0.25 | AI2: 0.29166667 | AJ2: 0.33333333 | AK2: 0.375 | AL2: 0.41666667 | AM2: 0.45833333 | AN2: 0.5 | AO2: 0.54166667 | AP2: 0.58333333 | AQ2: 0.625 | AR2: 0.66666667 | AS2: 0.70833333 | AT2: 0.75 | AU2: 0.79166667 | AV2: 0.83333333 | AW2: 0.875 | AX2: 0.91666667 | AY2: 0.95833333 | BA2: 0 | BB2: 0.041666667 | BC2: 0.083333333 | BD2: 0.125 | BE2: 0.16666667 | BF2: 0.20833333 | BG2: 0.25 | BH2: 0.29166667 | BI2: 0.33333333 | BJ2: 0.375 | BK2: 0.41666667 | BL2: 0.45833333 | BM2: 0.5 | BN2: 0.54166667 | BO2: 0.58333333 | BP2: 0.625 | BQ2: 0.66666667 | BR2: 0.70833333 | BS2: 0.75 | BT2: 0.79166667 | BU2: 0.83333333 | BV2: 0.875 | BW2: 0.91666667 | BX2: 0.95833333
A3: Month | C3: 0.041666667 | D3: 0.083333333 | E3: 0.125 | F3: 0.16666667 | G3: 0.20833333 | H3: 0.25 | I3: 0.29166667 | J3: 0.33333333 | K3: 0.375 | L3: 0.41666667 | M3: 0.45833333 | N3: 0.5 | O3: 0.54166667 | P3: 0.58333333 | Q3: 0.625 | R3: 0.66666667 | S3: 0.70833333 | T3: 0.75 | U3: 0.79166667 | V3: 0.83333333 | W3: 0.875 | X3: 0.91666667 | Y3: 0.95833333 | Z3: 0 | AB3: 0.041666667 | AC3: 0.083333333 | AD3: 0.125 | AE3: 0.16666667 | AF3: 0.20833333 | AG3: 0.25 | AH3: 0.29166667 | AI3: 0.33333333 | AJ3: 0.375 | AK3: 0.41666667 | AL3: 0.45833333 | AM3: 0.5 | AN3: 0.54166667 | AO3: 0.58333333 | AP3: 0.625 | AQ3: 0.66666667 | AR3: 0.70833333 | AS3: 0.75 | AT3: 0.79166667 | AU3: 0.83333333 | AV3: 0.875 | AW3: 0.91666667 | AX3: 0.95833333 | AY3: 0 | BA3: 0.041666667 | BB3: 0.083333333 | BC3: 0.125 | BD3: 0.16666667 | BE3: 0.20833333 | BF3: 0.25 | BG3: 0.29166667 | BH3: 0.33333333 | BI3: 0.375 | BJ3: 0.41666667 | BK3: 0.45833333 | BL3: 0.5 | BM3: 0.54166667 | BN3: 0.58333333 | BO3: 0.625 | BP3: 0.66666667 | BQ3: 0.70833333 | BR3: 0.75 | BS3: 0.79166667 | BT3: 0.83333333 | BU3: 0.875 | BV3: 0.91666667 | BW3: 0.95833333 | BX3: 0
C5: 0 | D5: 1 | E5: 2 | F5: 3 | G5: 4 | H5: 5 | I5: 6 | J5: 7 | K5: 8 | L5: 9 | M5: 10 | N5: 11 | O5: 12 | P5: 13 | Q5: 14 | R5: 15 | S5: 16 | T5: 17 | U5: 18 | V5: 19 | W5: 20 | X5: 21 | Y5: 22 | Z5: 23 | AB5: 0 | AC5: 1 | AD5: 2 | AE5: 3 | AF5: 4 | AG5: 5 | AH5: 6 | AI5: 7 | AJ5: 8 | AK5: 9 | AL5: 10 | AM5: 11 | AN5: 12 | AO5: 13 | AP5: 14 | AQ5: 15 | AR5: 16 | AS5: 17 | AT5: 18 | AU5: 19 | AV5: 20 | AW5: 21 | AX5: 22 | AY5: 23 | BA5: 0 | BB5: 1 | BC5: 2 | BD5: 3 | BE5: 4 | BF5: 5 | BG5: 6 | BH5: 7 | BI5: 8 | BJ5: 9 | BK5: 10 | BL5: 11 | BM5: 12 | BN5: 13 | BO5: 14 | BP5: 15 | BQ5: 16 | BR5: 17 | BS5: 18 | BT5: 19 | BU5: 20 | BV5: 21 | BW5: 22 | BX5: 23
A6: 1 | C6: =C36 -> 0.070414511 | D6: =D36 -> 0.060789601 | E6: =E36 -> 0.050319335 | F6: =F36 -> 0.040642747 | G6: =G36 -> 0.034562605 | H6: =H36 -> 0.031471924 | I6: =I36 -> 0.03129894 | J6: =J36 -> 0.029500074 | ... Z6: =Z36 -> 0.079734942 | AB6: =AB36 -> 0.019306522 | AC6: =AC36 -> 0.015361973 | AD6: =AD36 -> 0.011535348 | AE6: =AE36 -> 0.009033789 | AF6: =AF36 -> 0.0076838571 | AG6: =AG36 -> 0.010553666 | AH6: =AH36 -> 0.018367122 | AI6: =AI36 -> 0.029014618 | ... AY6: =AY36 -> 0.025132464 | BA6: =BA36 -> 0.013307233 | BB6: =BB36 -> 0.015074922 | BC6: =BC36 -> 0.011922275 | BD6: =BD36 -> 0.0089052863 | BE6: =BE36 -> 0.0093738733 | BF6: =BF36 -> 0.018969054 | BG6: =BG36 -> 0.046185067 | BH6: =BH36 -> 0.078139394 | ... BX6: =BX36 -> 0.010032413
A7: 2 | C7: =C37 -> 0.070414511 | D7: =D37 -> 0.060789601 | E7: =E37 -> 0.050319335 | F7: =F37 -> 0.040642747 | G7: =G37 -> 0.034562605 | H7: =H37 -> 0.031471924 | I7: =I37 -> 0.03129894 | J7: =J37 -> 0.029500074 | ... Z7: =Z37 -> 0.079734942 | AB7: =AB37 -> 0.019306522 | AC7: =AC37 -> 0.015361973 | AD7: =AD37 -> 0.011535348 | AE7: =AE37 -> 0.009033789 | AF7: =AF37 -> 0.0076838571 | AG7: =AG37 -> 0.010553666 | AH7: =AH37 -> 0.018367122 | AI7: =AI37 -> 0.029014618 | ... AY7: =AY37 -> 0.025132464 | BA7: =BA37 -> 0.013307233 | BB7: =BB37 -> 0.015074922 | BC7: =BC37 -> 0.011922275 | BD7: =BD37 -> 0.0089052863 | BE7: =BE37 -> 0.0093738733 | BF7: =BF37 -> 0.018969054 | BG7: =BG37 -> 0.046185067 | BH7: =BH37 -> 0.078139394 | ... BX7: =BX37 -> 0.010032413
A8: 3 | C8: =C38 -> 0.070414511 | D8: =D38 -> 0.060789601 | E8: =E38 -> 0.050319335 | F8: =F38 -> 0.040642747 | G8: =G38 -> 0.034562605 | H8: =H38 -> 0.031471924 | I8: =I38 -> 0.03129894 | J8: =J38 -> 0.029500074 | ... Z8: =Z38 -> 0.079734942 | AB8: =AB38 -> 0.019306522 | AC8: =AC38 -> 0.015361973 | AD8: =AD38 -> 0.011535348 | AE8: =AE38 -> 0.009033789 | AF8: =AF38 -> 0.0076838571 | AG8: =AG38 -> 0.010553666 | AH8: =AH38 -> 0.018367122 | AI8: =AI38 -> 0.029014618 | ... AY8: =AY38 -> 0.025132464 | BA8: =BA38 -> 0.013307233 | BB8: =BB38 -> 0.015074922 | BC8: =BC38 -> 0.011922275 | BD8: =BD38 -> 0.0089052863 | BE8: =BE38 -> 0.0093738733 | BF8: =BF38 -> 0.018969054 | BG8: =BG38 -> 0.046185067 | BH8: =BH38 -> 0.078139394 | ... BX8: =BX38 -> 0.010032413
A9: 4 | C9: =C39 -> 0.070414511 | D9: =D39 -> 0.060789601 | E9: =E39 -> 0.050319335 | F9: =F39 -> 0.040642747 | G9: =G39 -> 0.034562605 | H9: =H39 -> 0.031471924 | I9: =I39 -> 0.03129894 | J9: =J39 -> 0.029500074 | ... Z9: =Z39 -> 0.079734942 | AB9: =AB39 -> 0.019306522 | AC9: =AC39 -> 0.015361973 | AD9: =AD39 -> 0.011535348 | AE9: =AE39 -> 0.009033789 | AF9: =AF39 -> 0.0076838571 | AG9: =AG39 -> 0.010553666 | AH9: =AH39 -> 0.018367122 | AI9: =AI39 -> 0.029014618 | ... AY9: =AY39 -> 0.025132464 | BA9: =BA39 -> 0.013307233 | BB9: =BB39 -> 0.015074922 | BC9: =BC39 -> 0.011922275 | BD9: =BD39 -> 0.0089052863 | BE9: =BE39 -> 0.0093738733 | BF9: =BF39 -> 0.018969054 | BG9: =BG39 -> 0.046185067 | BH9: =BH39 -> 0.078139394 | ... BX9: =BX39 -> 0.010032413
A10: 5 | C10: =C40 -> 0.070414511 | D10: =D40 -> 0.060789601 | E10: =E40 -> 0.050319335 | F10: =F40 -> 0.040642747 | G10: =G40 -> 0.034562605 | H10: =H40 -> 0.031471924 | I10: =I40 -> 0.03129894 | J10: =J40 -> 0.029500074 | ... Z10: =Z40 -> 0.079734942 | AB10: =AB40 -> 0.019306522 | AC10: =AC40 -> 0.015361973 | AD10: =AD40 -> 0.011535348 | AE10: =AE40 -> 0.009033789 | AF10: =AF40 -> 0.0076838571 | AG10: =AG40 -> 0.010553666 | AH10: =AH40 -> 0.018367122 | AI10: =AI40 -> 0.029014618 | ... AY10: =AY40 -> 0.025132464 | BA10: =BA40 -> 0.013307233 | BB10: =BB40 -> 0.015074922 | BC10: =BC40 -> 0.011922275 | BD10: =BD40 -> 0.0089052863 | BE10: =BE40 -> 0.0093738733 | BF10: =BF40 -> 0.018969054 | BG10: =BG40 -> 0.046185067 | BH10: =BH40 -> 0.078139394 | ... BX10: =BX40 -> 0.010032413
A11: 6 | C11: =C41 -> 0.070414511 | D11: =D41 -> 0.060789601 | E11: =E41 -> 0.050319335 | F11: =F41 -> 0.040642747 | G11: =G41 -> 0.034562605 | H11: =H41 -> 0.031471924 | I11: =I41 -> 0.03129894 | J11: =J41 -> 0.029500074 | ... Z11: =Z41 -> 0.079734942 | AB11: =AB41 -> 0.019306522 | AC11: =AC41 -> 0.015361973 | AD11: =AD41 -> 0.011535348 | AE11: =AE41 -> 0.009033789 | AF11: =AF41 -> 0.0076838571 | AG11: =AG41 -> 0.010553666 | AH11: =AH41 -> 0.018367122 | AI11: =AI41 -> 0.029014618 | ... AY11: =AY41 -> 0.025132464 | BA11: =BA41 -> 0.013307233 | BB11: =BB41 -> 0.015074922 | BC11: =BC41 -> 0.011922275 | BD11: =BD41 -> 0.0089052863 | BE11: =BE41 -> 0.0093738733 | BF11: =BF41 -> 0.018969054 | BG11: =BG41 -> 0.046185067 | BH11: =BH41 -> 0.078139394 | ... BX11: =BX41 -> 0.010032413
